BEGIN:VCALENDAR
VERSION:2.0
PRODID:-//Alpenverein Schliersee - ECPv6.15.20//NONSGML v1.0//EN
CALSCALE:GREGORIAN
METHOD:PUBLISH
X-ORIGINAL-URL:https://www.alpenverein-schliersee.com
X-WR-CALDESC:Veranstaltungen für Alpenverein Schliersee
REFRESH-INTERVAL;VALUE=DURATION:PT1H
X-Robots-Tag:noindex
X-PUBLISHED-TTL:PT1H
BEGIN:VTIMEZONE
TZID:Europe/Berlin
BEGIN:DAYLIGHT
TZOFFSETFROM:+0100
TZOFFSETTO:+0200
TZNAME:CEST
DTSTART:20250330T010000
END:DAYLIGHT
BEGIN:STANDARD
TZOFFSETFROM:+0200
TZOFFSETTO:+0100
TZNAME:CET
DTSTART:20251026T010000
END:STANDARD
BEGIN:DAYLIGHT
TZOFFSETFROM:+0100
TZOFFSETTO:+0200
TZNAME:CEST
DTSTART:20260329T010000
END:DAYLIGHT
BEGIN:STANDARD
TZOFFSETFROM:+0200
TZOFFSETTO:+0100
TZNAME:CET
DTSTART:20261025T010000
END:STANDARD
BEGIN:DAYLIGHT
TZOFFSETFROM:+0100
TZOFFSETTO:+0200
TZNAME:CEST
DTSTART:20270328T010000
END:DAYLIGHT
BEGIN:STANDARD
TZOFFSETFROM:+0200
TZOFFSETTO:+0100
TZNAME:CET
DTSTART:20271031T010000
END:STANDARD
END:VTIMEZONE
BEGIN:VEVENT
DTSTART;TZID=Europe/Berlin:20260206T080000
DTEND;TZID=Europe/Berlin:20260208T170000
DTSTAMP:20260420T174648
CREATED:20260106T171627Z
LAST-MODIFIED:20260106T171627Z
UID:1638-1770364800-1770570000@www.alpenverein-schliersee.com
SUMMARY:Reger
DESCRIPTION:10
URL:https://www.alpenverein-schliersee.com/huettenkalender/reger/
LOCATION:Vereinshütte
CATEGORIES:Buchungen
END:VEVENT
BEGIN:VEVENT
DTSTART;TZID=Europe/Berlin:20260213T080000
DTEND;TZID=Europe/Berlin:20260215T170000
DTSTAMP:20260420T174648
CREATED:20260106T171228Z
LAST-MODIFIED:20260106T171228Z
UID:1636-1770969600-1771174800@www.alpenverein-schliersee.com
SUMMARY:Trachtler
DESCRIPTION:4
URL:https://www.alpenverein-schliersee.com/huettenkalender/trachtler/
LOCATION:Vereinshütte
CATEGORIES:Buchungen
END:VEVENT
BEGIN:VEVENT
DTSTART;TZID=Europe/Berlin:20260213T080000
DTEND;TZID=Europe/Berlin:20260215T170000
DTSTAMP:20260420T174648
CREATED:20260106T171855Z
LAST-MODIFIED:20260106T171855Z
UID:1640-1770969600-1771174800@www.alpenverein-schliersee.com
SUMMARY:Ellmeier
DESCRIPTION:10 Personen
URL:https://www.alpenverein-schliersee.com/huettenkalender/ellmeier-4/
LOCATION:Vereinshütte
CATEGORIES:Buchungen
END:VEVENT
BEGIN:VEVENT
DTSTART;TZID=Europe/Berlin:20260219T080000
DTEND;TZID=Europe/Berlin:20260222T170000
DTSTAMP:20260420T174648
CREATED:20251208T200328Z
LAST-MODIFIED:20251208T200328Z
UID:1614-1771488000-1771779600@www.alpenverein-schliersee.com
SUMMARY:Hamberger
DESCRIPTION:15 Personen
URL:https://www.alpenverein-schliersee.com/huettenkalender/hamberger-6/
LOCATION:Vereinshütte
CATEGORIES:Buchungen
END:VEVENT
BEGIN:VEVENT
DTSTART;TZID=Europe/Berlin:20260227T080000
DTEND;TZID=Europe/Berlin:20260301T170000
DTSTAMP:20260420T174648
CREATED:20260216T191312Z
LAST-MODIFIED:20260216T191312Z
UID:1653-1772179200-1772384400@www.alpenverein-schliersee.com
SUMMARY:Müller
DESCRIPTION:7 Perosnen
URL:https://www.alpenverein-schliersee.com/huettenkalender/mueller-9/
LOCATION:Vereinshütte
CATEGORIES:Arbeitsdienst
ORGANIZER;CN="Korbinian M%C3%BCller":MAILTO:kmueller2019@gmx.de
END:VEVENT
END:VCALENDAR