BEGIN:VCALENDAR
VERSION:2.0
PRODID:-//Alpenverein Schliersee - ECPv6.15.20//NONSGML v1.0//EN
CALSCALE:GREGORIAN
METHOD:PUBLISH
X-WR-CALNAME:Alpenverein Schliersee
X-ORIGINAL-URL:https://www.alpenverein-schliersee.com
X-WR-CALDESC:Veranstaltungen für Alpenverein Schliersee
REFRESH-INTERVAL;VALUE=DURATION:PT1H
X-Robots-Tag:noindex
X-PUBLISHED-TTL:PT1H
BEGIN:VTIMEZONE
TZID:Europe/Berlin
BEGIN:DAYLIGHT
TZOFFSETFROM:+0100
TZOFFSETTO:+0200
TZNAME:CEST
DTSTART:20240331T010000
END:DAYLIGHT
BEGIN:STANDARD
TZOFFSETFROM:+0200
TZOFFSETTO:+0100
TZNAME:CET
DTSTART:20241027T010000
END:STANDARD
BEGIN:DAYLIGHT
TZOFFSETFROM:+0100
TZOFFSETTO:+0200
TZNAME:CEST
DTSTART:20250330T010000
END:DAYLIGHT
BEGIN:STANDARD
TZOFFSETFROM:+0200
TZOFFSETTO:+0100
TZNAME:CET
DTSTART:20251026T010000
END:STANDARD
BEGIN:DAYLIGHT
TZOFFSETFROM:+0100
TZOFFSETTO:+0200
TZNAME:CEST
DTSTART:20260329T010000
END:DAYLIGHT
BEGIN:STANDARD
TZOFFSETFROM:+0200
TZOFFSETTO:+0100
TZNAME:CET
DTSTART:20261025T010000
END:STANDARD
END:VTIMEZONE
BEGIN:VEVENT
DTSTART;TZID=Europe/Berlin:20250910T080000
DTEND;TZID=Europe/Berlin:20250912T170000
DTSTAMP:20260421T012144
CREATED:20250424T153814Z
LAST-MODIFIED:20250424T153814Z
UID:1417-1757491200-1757696400@www.alpenverein-schliersee.com
SUMMARY:Eder
DESCRIPTION:14 Personen
URL:https://www.alpenverein-schliersee.com/huettenkalender/eder-2/
LOCATION:Vereinshütte
CATEGORIES:Buchungen
END:VEVENT
BEGIN:VEVENT
DTSTART;TZID=Europe/Berlin:20250913T080000
DTEND;TZID=Europe/Berlin:20250918T170000
DTSTAMP:20260421T012144
CREATED:20250905T091257Z
LAST-MODIFIED:20250905T091257Z
UID:1548-1757750400-1758214800@www.alpenverein-schliersee.com
SUMMARY:Zeuner
DESCRIPTION:4 Personen
URL:https://www.alpenverein-schliersee.com/huettenkalender/zeuner/
LOCATION:Vereinshütte
CATEGORIES:Buchungen
END:VEVENT
BEGIN:VEVENT
DTSTART;TZID=Europe/Berlin:20250919T080000
DTEND;TZID=Europe/Berlin:20250921T170000
DTSTAMP:20260421T012144
CREATED:20250424T155603Z
LAST-MODIFIED:20250424T160620Z
UID:1425-1758268800-1758474000@www.alpenverein-schliersee.com
SUMMARY:HOLZAKTION
DESCRIPTION:Hütte für Helfer Reserviert
URL:https://www.alpenverein-schliersee.com/huettenkalender/holzaktion-4/
LOCATION:Vereinshütte
CATEGORIES:Arbeitsdienst
END:VEVENT
BEGIN:VEVENT
DTSTART;TZID=Europe/Berlin:20250926T080000
DTEND;TZID=Europe/Berlin:20250928T170000
DTSTAMP:20260421T012144
CREATED:20250905T085807Z
LAST-MODIFIED:20250905T085807Z
UID:1542-1758873600-1759078800@www.alpenverein-schliersee.com
SUMMARY:Rossa
DESCRIPTION:10 Personen
URL:https://www.alpenverein-schliersee.com/huettenkalender/rossa-5/
END:VEVENT
END:VCALENDAR