BEGIN:VCALENDAR
VERSION:2.0
PRODID:-//Alpenverein Schliersee - ECPv6.15.20//NONSGML v1.0//EN
CALSCALE:GREGORIAN
METHOD:PUBLISH
X-ORIGINAL-URL:https://www.alpenverein-schliersee.com
X-WR-CALDESC:Veranstaltungen für Alpenverein Schliersee
REFRESH-INTERVAL;VALUE=DURATION:PT1H
X-Robots-Tag:noindex
X-PUBLISHED-TTL:PT1H
BEGIN:VTIMEZONE
TZID:Europe/Berlin
BEGIN:DAYLIGHT
TZOFFSETFROM:+0100
TZOFFSETTO:+0200
TZNAME:CEST
DTSTART:20240331T010000
END:DAYLIGHT
BEGIN:STANDARD
TZOFFSETFROM:+0200
TZOFFSETTO:+0100
TZNAME:CET
DTSTART:20241027T010000
END:STANDARD
BEGIN:DAYLIGHT
TZOFFSETFROM:+0100
TZOFFSETTO:+0200
TZNAME:CEST
DTSTART:20250330T010000
END:DAYLIGHT
BEGIN:STANDARD
TZOFFSETFROM:+0200
TZOFFSETTO:+0100
TZNAME:CET
DTSTART:20251026T010000
END:STANDARD
BEGIN:DAYLIGHT
TZOFFSETFROM:+0100
TZOFFSETTO:+0200
TZNAME:CEST
DTSTART:20260329T010000
END:DAYLIGHT
BEGIN:STANDARD
TZOFFSETFROM:+0200
TZOFFSETTO:+0100
TZNAME:CET
DTSTART:20261025T010000
END:STANDARD
END:VTIMEZONE
BEGIN:VEVENT
DTSTART;TZID=Europe/Berlin:20250802T080000
DTEND;TZID=Europe/Berlin:20250803T170000
DTSTAMP:20260421T025425
CREATED:20250424T154646Z
LAST-MODIFIED:20250424T154646Z
UID:1423-1754121600-1754240400@www.alpenverein-schliersee.com
SUMMARY:Gerber
DESCRIPTION:Familiengruppe
URL:https://www.alpenverein-schliersee.com/huettenkalender/gerber-2/
LOCATION:Vereinshütte
CATEGORIES:Buchungen
END:VEVENT
BEGIN:VEVENT
DTSTART;TZID=Europe/Berlin:20250806T080000
DTEND;TZID=Europe/Berlin:20250813T170000
DTSTAMP:20260421T025425
CREATED:20250713T145008Z
LAST-MODIFIED:20250713T145118Z
UID:1497-1754467200-1755104400@www.alpenverein-schliersee.com
SUMMARY:Lindlmaier
DESCRIPTION:2 Personen
URL:https://www.alpenverein-schliersee.com/huettenkalender/lindlmaier/
LOCATION:Vereinshütte
CATEGORIES:Buchungen
END:VEVENT
BEGIN:VEVENT
DTSTART;TZID=Europe/Berlin:20250819T080000
DTEND;TZID=Europe/Berlin:20250821T170000
DTSTAMP:20260421T025425
CREATED:20250729T171606Z
LAST-MODIFIED:20250729T171920Z
UID:1532-1755590400-1755795600@www.alpenverein-schliersee.com
SUMMARY:Ochsenkühnn
DESCRIPTION:4
URL:https://www.alpenverein-schliersee.com/huettenkalender/ochsenkuehnn/
LOCATION:Vereinshütte
CATEGORIES:Buchungen
END:VEVENT
BEGIN:VEVENT
DTSTART;TZID=Europe/Berlin:20250822T080000
DTEND;TZID=Europe/Berlin:20250824T170000
DTSTAMP:20260421T025425
CREATED:20250511T184313Z
LAST-MODIFIED:20250511T184319Z
UID:1427-1755849600-1756054800@www.alpenverein-schliersee.com
SUMMARY:Rau
DESCRIPTION:15 Personen
URL:https://www.alpenverein-schliersee.com/huettenkalender/rau-3/
LOCATION:Vereinshütte
CATEGORIES:Buchungen
END:VEVENT
BEGIN:VEVENT
DTSTART;TZID=Europe/Berlin:20250826T080000
DTEND;TZID=Europe/Berlin:20250828T170000
DTSTAMP:20260421T025425
CREATED:20250817T062715Z
LAST-MODIFIED:20250817T062715Z
UID:1534-1756195200-1756400400@www.alpenverein-schliersee.com
SUMMARY:Zeumer
DESCRIPTION:3 Personen
URL:https://www.alpenverein-schliersee.com/huettenkalender/zeumer-2/
LOCATION:Vereinshütte
CATEGORIES:Buchungen
END:VEVENT
BEGIN:VEVENT
DTSTART;TZID=Europe/Berlin:20250829T080000
DTEND;TZID=Europe/Berlin:20250831T170000
DTSTAMP:20260421T025425
CREATED:20250714T174014Z
LAST-MODIFIED:20250714T174014Z
UID:1502-1756454400-1756659600@www.alpenverein-schliersee.com
SUMMARY:Plessner
DESCRIPTION:1Person
URL:https://www.alpenverein-schliersee.com/huettenkalender/plessner/
LOCATION:Vereinshütte
CATEGORIES:Buchungen
END:VEVENT
END:VCALENDAR