BEGIN:VCALENDAR
VERSION:2.0
PRODID:-//Alpenverein Schliersee - ECPv6.15.20//NONSGML v1.0//EN
CALSCALE:GREGORIAN
METHOD:PUBLISH
X-ORIGINAL-URL:https://www.alpenverein-schliersee.com
X-WR-CALDESC:Veranstaltungen für Alpenverein Schliersee
REFRESH-INTERVAL;VALUE=DURATION:PT1H
X-Robots-Tag:noindex
X-PUBLISHED-TTL:PT1H
BEGIN:VTIMEZONE
TZID:Europe/Berlin
BEGIN:DAYLIGHT
TZOFFSETFROM:+0100
TZOFFSETTO:+0200
TZNAME:CEST
DTSTART:20240331T010000
END:DAYLIGHT
BEGIN:STANDARD
TZOFFSETFROM:+0200
TZOFFSETTO:+0100
TZNAME:CET
DTSTART:20241027T010000
END:STANDARD
BEGIN:DAYLIGHT
TZOFFSETFROM:+0100
TZOFFSETTO:+0200
TZNAME:CEST
DTSTART:20250330T010000
END:DAYLIGHT
BEGIN:STANDARD
TZOFFSETFROM:+0200
TZOFFSETTO:+0100
TZNAME:CET
DTSTART:20251026T010000
END:STANDARD
BEGIN:DAYLIGHT
TZOFFSETFROM:+0100
TZOFFSETTO:+0200
TZNAME:CEST
DTSTART:20260329T010000
END:DAYLIGHT
BEGIN:STANDARD
TZOFFSETFROM:+0200
TZOFFSETTO:+0100
TZNAME:CET
DTSTART:20261025T010000
END:STANDARD
END:VTIMEZONE
BEGIN:VEVENT
DTSTART;TZID=Europe/Berlin:20250530T080000
DTEND;TZID=Europe/Berlin:20250601T170000
DTSTAMP:20260421T055853
CREATED:20250511T184749Z
LAST-MODIFIED:20250511T184749Z
UID:1433-1748592000-1748797200@www.alpenverein-schliersee.com
SUMMARY:Müller
DESCRIPTION:6 Personen
URL:https://www.alpenverein-schliersee.com/huettenkalender/mueller-7/
LOCATION:Vereinshütte
CATEGORIES:Buchungen
END:VEVENT
BEGIN:VEVENT
DTSTART;TZID=Europe/Berlin:20250601T080000
DTEND;TZID=Europe/Berlin:20250603T170000
DTSTAMP:20260421T055853
CREATED:20250218T175457Z
LAST-MODIFIED:20250511T184627Z
UID:1366-1748764800-1748970000@www.alpenverein-schliersee.com
SUMMARY:Bauer
DESCRIPTION:8 Personen
URL:https://www.alpenverein-schliersee.com/huettenkalender/bauer-4/
LOCATION:Vereinshütte
CATEGORIES:Buchungen
END:VEVENT
BEGIN:VEVENT
DTSTART;TZID=Europe/Berlin:20250624T080000
DTEND;TZID=Europe/Berlin:20250626T170000
DTSTAMP:20260421T055853
CREATED:20250607T123819Z
LAST-MODIFIED:20250607T123819Z
UID:1467-1750752000-1750957200@www.alpenverein-schliersee.com
SUMMARY:Tschech
DESCRIPTION:4 Personen  + (6 Kinder )
URL:https://www.alpenverein-schliersee.com/huettenkalender/tschech-6/
LOCATION:Vereinshütte
CATEGORIES:Buchungen
END:VEVENT
END:VCALENDAR