BEGIN:VCALENDAR
VERSION:2.0
PRODID:-//Alpenverein Schliersee - ECPv6.15.20//NONSGML v1.0//EN
CALSCALE:GREGORIAN
METHOD:PUBLISH
X-ORIGINAL-URL:https://www.alpenverein-schliersee.com
X-WR-CALDESC:Veranstaltungen für Alpenverein Schliersee
REFRESH-INTERVAL;VALUE=DURATION:PT1H
X-Robots-Tag:noindex
X-PUBLISHED-TTL:PT1H
BEGIN:VTIMEZONE
TZID:Europe/Berlin
BEGIN:DAYLIGHT
TZOFFSETFROM:+0100
TZOFFSETTO:+0200
TZNAME:CEST
DTSTART:20230326T010000
END:DAYLIGHT
BEGIN:STANDARD
TZOFFSETFROM:+0200
TZOFFSETTO:+0100
TZNAME:CET
DTSTART:20231029T010000
END:STANDARD
BEGIN:DAYLIGHT
TZOFFSETFROM:+0100
TZOFFSETTO:+0200
TZNAME:CEST
DTSTART:20240331T010000
END:DAYLIGHT
BEGIN:STANDARD
TZOFFSETFROM:+0200
TZOFFSETTO:+0100
TZNAME:CET
DTSTART:20241027T010000
END:STANDARD
BEGIN:DAYLIGHT
TZOFFSETFROM:+0100
TZOFFSETTO:+0200
TZNAME:CEST
DTSTART:20250330T010000
END:DAYLIGHT
BEGIN:STANDARD
TZOFFSETFROM:+0200
TZOFFSETTO:+0100
TZNAME:CET
DTSTART:20251026T010000
END:STANDARD
BEGIN:DAYLIGHT
TZOFFSETFROM:+0100
TZOFFSETTO:+0200
TZNAME:CEST
DTSTART:20260329T010000
END:DAYLIGHT
BEGIN:STANDARD
TZOFFSETFROM:+0200
TZOFFSETTO:+0100
TZNAME:CET
DTSTART:20261025T010000
END:STANDARD
END:VTIMEZONE
BEGIN:VEVENT
DTSTART;TZID=Europe/Berlin:20241129T080000
DTEND;TZID=Europe/Berlin:20241201T170000
DTSTAMP:20260421T143511
CREATED:20241201T161419Z
LAST-MODIFIED:20241201T161419Z
UID:1327-1732867200-1733072400@www.alpenverein-schliersee.com
SUMMARY:Rossa
DESCRIPTION:9 Personen
URL:https://www.alpenverein-schliersee.com/huettenkalender/rossa-4/
LOCATION:Vereinshütte
CATEGORIES:Buchungen
END:VEVENT
BEGIN:VEVENT
DTSTART;TZID=Europe/Berlin:20241212T080000
DTEND;TZID=Europe/Berlin:20241213T170000
DTSTAMP:20260421T143511
CREATED:20241113T202514Z
LAST-MODIFIED:20241201T161602Z
UID:1323-1733990400-1734109200@www.alpenverein-schliersee.com
SUMMARY:Eichhorn
DESCRIPTION:9 Personen
URL:https://www.alpenverein-schliersee.com/huettenkalender/eichhorn-2/
LOCATION:Vereinshütte
CATEGORIES:Buchungen
END:VEVENT
BEGIN:VEVENT
DTSTART;TZID=Europe/Berlin:20241213T170000
DTEND;TZID=Europe/Berlin:20241215T170000
DTSTAMP:20260421T143511
CREATED:20241113T202813Z
LAST-MODIFIED:20241113T202813Z
UID:1325-1734109200-1734282000@www.alpenverein-schliersee.com
SUMMARY:Bauer
DESCRIPTION:6 Personen
URL:https://www.alpenverein-schliersee.com/huettenkalender/bauer-3/
LOCATION:Vereinshütte
CATEGORIES:Buchungen
END:VEVENT
BEGIN:VEVENT
DTSTART;TZID=Europe/Berlin:20241227T080000
DTEND;TZID=Europe/Berlin:20241228T170000
DTSTAMP:20260421T143511
CREATED:20241102T171633Z
LAST-MODIFIED:20241102T171633Z
UID:1314-1735286400-1735405200@www.alpenverein-schliersee.com
SUMMARY:Brunner
DESCRIPTION:7 Personen
URL:https://www.alpenverein-schliersee.com/huettenkalender/brunner-6/
LOCATION:Vereinshütte
CATEGORIES:Buchungen
END:VEVENT
BEGIN:VEVENT
DTSTART;TZID=Europe/Berlin:20241231T080000
DTEND;TZID=Europe/Berlin:20250101T170000
DTSTAMP:20260421T143511
CREATED:20250424T154230Z
LAST-MODIFIED:20250424T154230Z
UID:1420-1735632000-1735750800@www.alpenverein-schliersee.com
SUMMARY:Becker
DESCRIPTION:18 Personen
URL:https://www.alpenverein-schliersee.com/huettenkalender/becker-2/
LOCATION:Vereinshütte
CATEGORIES:Buchungen
END:VEVENT
END:VCALENDAR