BEGIN:VCALENDAR
VERSION:2.0
PRODID:-//Alpenverein Schliersee - ECPv6.15.20//NONSGML v1.0//EN
CALSCALE:GREGORIAN
METHOD:PUBLISH
X-ORIGINAL-URL:https://www.alpenverein-schliersee.com
X-WR-CALDESC:Veranstaltungen für Alpenverein Schliersee
REFRESH-INTERVAL;VALUE=DURATION:PT1H
X-Robots-Tag:noindex
X-PUBLISHED-TTL:PT1H
BEGIN:VTIMEZONE
TZID:Europe/Berlin
BEGIN:DAYLIGHT
TZOFFSETFROM:+0100
TZOFFSETTO:+0200
TZNAME:CEST
DTSTART:20230326T010000
END:DAYLIGHT
BEGIN:STANDARD
TZOFFSETFROM:+0200
TZOFFSETTO:+0100
TZNAME:CET
DTSTART:20231029T010000
END:STANDARD
BEGIN:DAYLIGHT
TZOFFSETFROM:+0100
TZOFFSETTO:+0200
TZNAME:CEST
DTSTART:20240331T010000
END:DAYLIGHT
BEGIN:STANDARD
TZOFFSETFROM:+0200
TZOFFSETTO:+0100
TZNAME:CET
DTSTART:20241027T010000
END:STANDARD
BEGIN:DAYLIGHT
TZOFFSETFROM:+0100
TZOFFSETTO:+0200
TZNAME:CEST
DTSTART:20250330T010000
END:DAYLIGHT
BEGIN:STANDARD
TZOFFSETFROM:+0200
TZOFFSETTO:+0100
TZNAME:CET
DTSTART:20251026T010000
END:STANDARD
END:VTIMEZONE
BEGIN:VEVENT
DTSTART;TZID=Europe/Berlin:20241005T080000
DTEND;TZID=Europe/Berlin:20241006T170000
DTSTAMP:20260421T172407
CREATED:20240505T104857Z
LAST-MODIFIED:20240505T105036Z
UID:1241-1728115200-1728234000@www.alpenverein-schliersee.com
SUMMARY:Ellmeier
DESCRIPTION:16 personen
URL:https://www.alpenverein-schliersee.com/huettenkalender/ellmeier-3/
LOCATION:Vereinshütte
CATEGORIES:Buchungen
END:VEVENT
BEGIN:VEVENT
DTSTART;TZID=Europe/Berlin:20241011T080000
DTEND;TZID=Europe/Berlin:20241013T170000
DTSTAMP:20260421T172407
CREATED:20241002T151050Z
LAST-MODIFIED:20241002T151050Z
UID:1294-1728633600-1728838800@www.alpenverein-schliersee.com
SUMMARY:Holzaktion Ersatztermin
DESCRIPTION:Hütte gesperrt \n 
URL:https://www.alpenverein-schliersee.com/huettenkalender/holzaktion-ersatztermin/
LOCATION:Vereinshütte
END:VEVENT
BEGIN:VEVENT
DTSTART;TZID=Europe/Berlin:20241025T080000
DTEND;TZID=Europe/Berlin:20241027T170000
DTSTAMP:20260421T172407
CREATED:20240908T081338Z
LAST-MODIFIED:20240908T081338Z
UID:1270-1729843200-1730048400@www.alpenverein-schliersee.com
SUMMARY:Koubek
DESCRIPTION:6 Personen
URL:https://www.alpenverein-schliersee.com/huettenkalender/koubek-2/
LOCATION:Vereinshütte
CATEGORIES:Buchungen
END:VEVENT
END:VCALENDAR