BEGIN:VCALENDAR
VERSION:2.0
PRODID:-//Alpenverein Schliersee - ECPv6.15.20//NONSGML v1.0//EN
CALSCALE:GREGORIAN
METHOD:PUBLISH
X-WR-CALNAME:Alpenverein Schliersee
X-ORIGINAL-URL:https://www.alpenverein-schliersee.com
X-WR-CALDESC:Veranstaltungen für Alpenverein Schliersee
REFRESH-INTERVAL;VALUE=DURATION:PT1H
X-Robots-Tag:noindex
X-PUBLISHED-TTL:PT1H
BEGIN:VTIMEZONE
TZID:Europe/Berlin
BEGIN:DAYLIGHT
TZOFFSETFROM:+0100
TZOFFSETTO:+0200
TZNAME:CEST
DTSTART:20250330T010000
END:DAYLIGHT
BEGIN:STANDARD
TZOFFSETFROM:+0200
TZOFFSETTO:+0100
TZNAME:CET
DTSTART:20251026T010000
END:STANDARD
BEGIN:DAYLIGHT
TZOFFSETFROM:+0100
TZOFFSETTO:+0200
TZNAME:CEST
DTSTART:20260329T010000
END:DAYLIGHT
BEGIN:STANDARD
TZOFFSETFROM:+0200
TZOFFSETTO:+0100
TZNAME:CET
DTSTART:20261025T010000
END:STANDARD
BEGIN:DAYLIGHT
TZOFFSETFROM:+0100
TZOFFSETTO:+0200
TZNAME:CEST
DTSTART:20270328T010000
END:DAYLIGHT
BEGIN:STANDARD
TZOFFSETFROM:+0200
TZOFFSETTO:+0100
TZNAME:CET
DTSTART:20271031T010000
END:STANDARD
END:VTIMEZONE
BEGIN:VEVENT
DTSTART;TZID=Europe/Berlin:20260102T080000
DTEND;TZID=Europe/Berlin:20260105T170000
DTSTAMP:20260420T205405
CREATED:20251102T082643Z
LAST-MODIFIED:20251102T082643Z
UID:1588-1767340800-1767632400@www.alpenverein-schliersee.com
SUMMARY:Bach
DESCRIPTION:8 Personen.
URL:https://www.alpenverein-schliersee.com/huettenkalender/bach-2/
LOCATION:Vereinshütte
CATEGORIES:Buchungen
END:VEVENT
BEGIN:VEVENT
DTSTART;TZID=Europe/Berlin:20260102T080000
DTEND;TZID=Europe/Berlin:20260106T170000
DTSTAMP:20260420T205405
CREATED:20251102T082357Z
LAST-MODIFIED:20251102T082357Z
UID:1586-1767340800-1767718800@www.alpenverein-schliersee.com
SUMMARY:Rogge
DESCRIPTION:4 Personen
URL:https://www.alpenverein-schliersee.com/huettenkalender/rogge/
LOCATION:Vereinshütte
CATEGORIES:Buchungen
END:VEVENT
BEGIN:VEVENT
DTSTART;TZID=Europe/Berlin:20260104T080000
DTEND;TZID=Europe/Berlin:20260107T170000
DTSTAMP:20260420T205405
CREATED:20251119T155417Z
LAST-MODIFIED:20251119T155417Z
UID:1597-1767513600-1767805200@www.alpenverein-schliersee.com
SUMMARY:Meier
DESCRIPTION:4 Personen
URL:https://www.alpenverein-schliersee.com/huettenkalender/meier/
LOCATION:Vereinshütte
CATEGORIES:Buchungen
END:VEVENT
END:VCALENDAR