BEGIN:VCALENDAR
VERSION:2.0
PRODID:-//Alpenverein Schliersee - ECPv6.15.20//NONSGML v1.0//EN
CALSCALE:GREGORIAN
METHOD:PUBLISH
X-WR-CALNAME:Alpenverein Schliersee
X-ORIGINAL-URL:https://www.alpenverein-schliersee.com
X-WR-CALDESC:Veranstaltungen für Alpenverein Schliersee
REFRESH-INTERVAL;VALUE=DURATION:PT1H
X-Robots-Tag:noindex
X-PUBLISHED-TTL:PT1H
BEGIN:VTIMEZONE
TZID:Europe/Berlin
BEGIN:DAYLIGHT
TZOFFSETFROM:+0100
TZOFFSETTO:+0200
TZNAME:CEST
DTSTART:20240331T010000
END:DAYLIGHT
BEGIN:STANDARD
TZOFFSETFROM:+0200
TZOFFSETTO:+0100
TZNAME:CET
DTSTART:20241027T010000
END:STANDARD
BEGIN:DAYLIGHT
TZOFFSETFROM:+0100
TZOFFSETTO:+0200
TZNAME:CEST
DTSTART:20250330T010000
END:DAYLIGHT
BEGIN:STANDARD
TZOFFSETFROM:+0200
TZOFFSETTO:+0100
TZNAME:CET
DTSTART:20251026T010000
END:STANDARD
BEGIN:DAYLIGHT
TZOFFSETFROM:+0100
TZOFFSETTO:+0200
TZNAME:CEST
DTSTART:20260329T010000
END:DAYLIGHT
BEGIN:STANDARD
TZOFFSETFROM:+0200
TZOFFSETTO:+0100
TZNAME:CET
DTSTART:20261025T010000
END:STANDARD
END:VTIMEZONE
BEGIN:VEVENT
DTSTART;TZID=Europe/Berlin:20250404T080000
DTEND;TZID=Europe/Berlin:20250406T170000
DTSTAMP:20260421T102528
CREATED:20250202T183848Z
LAST-MODIFIED:20250202T185132Z
UID:1359-1743753600-1743958800@www.alpenverein-schliersee.com
SUMMARY:Müller
DESCRIPTION:28 Personen
URL:https://www.alpenverein-schliersee.com/huettenkalender/mueller-6/
LOCATION:Vereinshütte
CATEGORIES:Buchungen
END:VEVENT
END:VCALENDAR